BEGIN:VCALENDAR
VERSION:2.0
PRODID:-//newhourli.org//NONSGML kigkonsult.se iCalcreator 2.30.10//
CALSCALE:GREGORIAN
METHOD:PUBLISH
UID:7e815963-0e0c-4884-bd67-1f3e31c15d13
X-WR-CALDESC:
X-WR-RELCALID:2a847b497206b562927c22f322fd0d9c
X-WR-TIMEZONE:America/New_York
BEGIN:VTIMEZONE
TZID:America/New_York
BEGIN:STANDARD
TZNAME:EST
DTSTART:20261101T020000
TZOFFSETFROM:-0400
TZOFFSETTO:-0500
RDATE:20271107T020000
END:STANDARD
BEGIN:DAYLIGHT
TZNAME:EDT
DTSTART:20260308T020000
TZOFFSETFROM:-0500
TZOFFSETTO:-0400
RDATE:20270314T020000
RDATE:20280312T020000
END:DAYLIGHT
END:VTIMEZONE
BEGIN:VEVENT
UID:8ac89bac-46c7-40f1-86fa-eb62c0367a97
DTSTAMP:20260421T102336Z
DESCRIPTION:
DTSTART;TZID=America/New_York:20270226T180000
DTEND;TZID=America/New_York:20270226T193000
LOCATION:
SUMMARY:New Hour Impacted Women Support Group
END:VEVENT
END:VCALENDAR
