BEGIN:VCALENDAR
VERSION:2.0
PRODID:-//newhourli.org//NONSGML kigkonsult.se iCalcreator 2.30.10//
CALSCALE:GREGORIAN
METHOD:PUBLISH
UID:4f001825-ae81-410a-ba59-576a00a26422
X-WR-CALDESC:Mother Baby Bond Jail Programming in the Yaphank Jail Nursery
X-WR-RELCALID:a9aed1840f9e0108525bcabb9e50795b
X-WR-TIMEZONE:America/New_York
BEGIN:VTIMEZONE
TZID:America/New_York
BEGIN:STANDARD
TZNAME:EST
DTSTART:20261101T020000
TZOFFSETFROM:-0400
TZOFFSETTO:-0500
RDATE:20271107T020000
END:STANDARD
BEGIN:DAYLIGHT
TZNAME:EDT
DTSTART:20260308T020000
TZOFFSETFROM:-0500
TZOFFSETTO:-0400
RDATE:20270314T020000
RDATE:20280312T020000
END:DAYLIGHT
END:VTIMEZONE
BEGIN:VEVENT
UID:6e2e705b-260e-47fa-8a2f-35e9599c3c13
DTSTAMP:20260421T102836Z
DESCRIPTION:Mother Baby Bond Jail Programming in the Yaphank Jail Nursery
DTSTART;TZID=America/New_York:20270222T153000
DTEND;TZID=America/New_York:20270222T163000
LOCATION:
SUMMARY:Mother Baby Bond Jail Programming
END:VEVENT
END:VCALENDAR
