BEGIN:VCALENDAR
VERSION:2.0
PRODID:-//newhourli.org//NONSGML kigkonsult.se iCalcreator 2.30.10//
CALSCALE:GREGORIAN
METHOD:PUBLISH
UID:2d943c9b-29ae-4e7c-8631-cb7da51bc924
X-WR-CALDESC:Reentry Planning Jail Programming in the Riverhead Jail
X-WR-RELCALID:663303bf39b2a1daec3cecd3d8284ac3
X-WR-TIMEZONE:America/New_York
BEGIN:VTIMEZONE
TZID:America/New_York
BEGIN:STANDARD
TZNAME:EST
DTSTART:20261101T020000
TZOFFSETFROM:-0400
TZOFFSETTO:-0500
RDATE:20271107T020000
END:STANDARD
BEGIN:DAYLIGHT
TZNAME:EDT
DTSTART:20260308T020000
TZOFFSETFROM:-0500
TZOFFSETTO:-0400
RDATE:20270314T020000
RDATE:20280312T020000
END:DAYLIGHT
END:VTIMEZONE
BEGIN:VEVENT
UID:9bf15f35-9249-4483-b6dd-882f13200572
DTSTAMP:20260421T095956Z
DESCRIPTION:Reentry Planning Jail Programming in the Riverhead Jail
DTSTART;TZID=America/New_York:20270219T090000
DTEND;TZID=America/New_York:20270219T110000
LOCATION:
SUMMARY:Reentry Planning Jail Programming
END:VEVENT
END:VCALENDAR
