BEGIN:VCALENDAR
VERSION:2.0
PRODID:-//newhourli.org//NONSGML kigkonsult.se iCalcreator 2.30.10//
CALSCALE:GREGORIAN
METHOD:PUBLISH
UID:0faf96bd-fdc4-4b35-88ca-6f4e3ec922f7
X-WR-CALDESC:Individual Discharge Planning Meetings in the Riverhead Jail
X-WR-RELCALID:3fa3370f87a00c4c2ce3777ff340d02b
X-WR-TIMEZONE:America/New_York
BEGIN:VTIMEZONE
TZID:America/New_York
BEGIN:STANDARD
TZNAME:EST
DTSTART:20261101T020000
TZOFFSETFROM:-0400
TZOFFSETTO:-0500
RDATE:20271107T020000
END:STANDARD
BEGIN:DAYLIGHT
TZNAME:EDT
DTSTART:20260308T020000
TZOFFSETFROM:-0500
TZOFFSETTO:-0400
RDATE:20270314T020000
RDATE:20280312T020000
END:DAYLIGHT
END:VTIMEZONE
BEGIN:VEVENT
UID:60b41f25-90b3-4746-9ab2-6d1308493ccb
DTSTAMP:20260419T140727Z
DESCRIPTION:Individual Discharge Planning Meetings in the Riverhead Jail
DTSTART;TZID=America/New_York:20270211T153000
DTEND;TZID=America/New_York:20270211T173000
LOCATION:
SUMMARY:Reentry Planning Jail Programming
END:VEVENT
END:VCALENDAR
