BEGIN:VCALENDAR
VERSION:2.0
PRODID:-//newhourli.org//NONSGML kigkonsult.se iCalcreator 2.30.10//
CALSCALE:GREGORIAN
METHOD:PUBLISH
UID:4c1dc983-60f4-4770-b0f7-c1eddd6f9d1d
X-WR-CALDESC:Creative Writing Jail Programming in Riverhead
X-WR-RELCALID:048447abe32dd718e92d81d8511f84a1
X-WR-TIMEZONE:America/New_York
BEGIN:VTIMEZONE
TZID:America/New_York
BEGIN:STANDARD
TZNAME:EST
DTSTART:20261101T020000
TZOFFSETFROM:-0400
TZOFFSETTO:-0500
RDATE:20271107T020000
END:STANDARD
BEGIN:DAYLIGHT
TZNAME:EDT
DTSTART:20260308T020000
TZOFFSETFROM:-0500
TZOFFSETTO:-0400
RDATE:20270314T020000
RDATE:20280312T020000
END:DAYLIGHT
END:VTIMEZONE
BEGIN:VEVENT
UID:2488ecfc-f120-402c-95d3-58433f24f9af
DTSTAMP:20260421T095519Z
DESCRIPTION:Creative Writing Jail Programming in Riverhead
DTSTART;TZID=America/New_York:20270209T093000
DTEND;TZID=America/New_York:20270209T103000
LOCATION:
SUMMARY:Creative Writing Jail Programming
END:VEVENT
END:VCALENDAR
