BEGIN:VCALENDAR
VERSION:2.0
PRODID:-//newhourli.org//NONSGML kigkonsult.se iCalcreator 2.30.10//
CALSCALE:GREGORIAN
METHOD:PUBLISH
UID:2b1e92d8-3102-4bac-984d-ae1bfa5458b4
X-WR-CALDESC:Mother Baby Bond Jail Programming in the Yaphank Jail Nursery
X-WR-RELCALID:9f728ffea1d0e5593ff182dd434d0c33
X-WR-TIMEZONE:America/New_York
BEGIN:VTIMEZONE
TZID:America/New_York
BEGIN:STANDARD
TZNAME:EST
DTSTART:20261101T020000
TZOFFSETFROM:-0400
TZOFFSETTO:-0500
RDATE:20271107T020000
END:STANDARD
BEGIN:DAYLIGHT
TZNAME:EDT
DTSTART:20260308T020000
TZOFFSETFROM:-0500
TZOFFSETTO:-0400
RDATE:20270314T020000
RDATE:20280312T020000
END:DAYLIGHT
END:VTIMEZONE
BEGIN:VEVENT
UID:d89e8cd8-e1bc-4dd7-9332-722a21f65fcd
DTSTAMP:20260421T102749Z
DESCRIPTION:Mother Baby Bond Jail Programming in the Yaphank Jail Nursery
DTSTART;TZID=America/New_York:20270208T153000
DTEND;TZID=America/New_York:20270208T163000
LOCATION:
SUMMARY:Mother Baby Bond Jail Programming
END:VEVENT
END:VCALENDAR
