BEGIN:VCALENDAR
VERSION:2.0
PRODID:-//newhourli.org//NONSGML kigkonsult.se iCalcreator 2.30.10//
CALSCALE:GREGORIAN
METHOD:PUBLISH
UID:621c0383-f4f8-4e24-8e4d-a66306e1d825
X-WR-CALDESC:Individual Discharge Planning Meetings in the Riverhead Jail
X-WR-RELCALID:5e82b4872f3b2ff99d4d8bf2fcb5d816
X-WR-TIMEZONE:America/New_York
BEGIN:VTIMEZONE
TZID:America/New_York
BEGIN:STANDARD
TZNAME:EST
DTSTART:20261101T020000
TZOFFSETFROM:-0400
TZOFFSETTO:-0500
RDATE:20271107T020000
END:STANDARD
BEGIN:DAYLIGHT
TZNAME:EDT
DTSTART:20260308T020000
TZOFFSETFROM:-0500
TZOFFSETTO:-0400
RDATE:20270314T020000
RDATE:20280312T020000
END:DAYLIGHT
END:VTIMEZONE
BEGIN:VEVENT
UID:69bda367-b8c8-4a39-9d85-79411ef6b7f5
DTSTAMP:20260421T083551Z
DESCRIPTION:Individual Discharge Planning Meetings in the Riverhead Jail
DTSTART;TZID=America/New_York:20270204T153000
DTEND;TZID=America/New_York:20270204T173000
LOCATION:
SUMMARY:Reentry Planning Jail Programming
END:VEVENT
END:VCALENDAR
