BEGIN:VCALENDAR
VERSION:2.0
PRODID:-//newhourli.org//NONSGML kigkonsult.se iCalcreator 2.30.10//
CALSCALE:GREGORIAN
METHOD:PUBLISH
UID:cc26d230-1956-4fb8-bc88-f7cbcf5a7037
X-WR-CALDESC:Conflict Management Jail Programming in the Riverhead Jail
X-WR-RELCALID:680e518b66b2b32ee8ac7fc910113f66
X-WR-TIMEZONE:America/New_York
BEGIN:VTIMEZONE
TZID:America/New_York
BEGIN:STANDARD
TZNAME:EST
DTSTART:20261101T020000
TZOFFSETFROM:-0400
TZOFFSETTO:-0500
RDATE:20271107T020000
END:STANDARD
BEGIN:DAYLIGHT
TZNAME:EDT
DTSTART:20260308T020000
TZOFFSETFROM:-0500
TZOFFSETTO:-0400
RDATE:20270314T020000
RDATE:20280312T020000
END:DAYLIGHT
END:VTIMEZONE
BEGIN:VEVENT
UID:285a9b73-0d6a-4ab9-bcf9-f5c364f27f9f
DTSTAMP:20260421T102718Z
DESCRIPTION:Conflict Management Jail Programming in the Riverhead Jail
DTSTART;TZID=America/New_York:20270203T090000
DTEND;TZID=America/New_York:20270203T103000
LOCATION:
SUMMARY:Conflict Management Jail Programming
END:VEVENT
END:VCALENDAR
