BEGIN:VCALENDAR
VERSION:2.0
PRODID:-//newhourli.org//NONSGML kigkonsult.se iCalcreator 2.30.10//
CALSCALE:GREGORIAN
METHOD:PUBLISH
UID:5c6aeb77-c66e-44c8-ad73-f8fdab2dfecf
X-WR-CALDESC:Conflict Management Jail Programming in the Yaphank Jail
X-WR-RELCALID:823472029b2023dde64fefbe58041d4d
X-WR-TIMEZONE:America/New_York
BEGIN:VTIMEZONE
TZID:America/New_York
BEGIN:STANDARD
TZNAME:EST
DTSTART:20261101T020000
TZOFFSETFROM:-0400
TZOFFSETTO:-0500
RDATE:20271107T020000
END:STANDARD
BEGIN:DAYLIGHT
TZNAME:EDT
DTSTART:20260308T020000
TZOFFSETFROM:-0500
TZOFFSETTO:-0400
RDATE:20270314T020000
RDATE:20280312T020000
END:DAYLIGHT
END:VTIMEZONE
BEGIN:VEVENT
UID:c598b8fa-be2a-4e2c-9c7c-12f9946b400a
DTSTAMP:20260421T101225Z
DESCRIPTION:Conflict Management Jail Programming in the Yaphank Jail
DTSTART;TZID=America/New_York:20270127T140000
DTEND;TZID=America/New_York:20270127T160000
LOCATION:
SUMMARY:Conflict Management Jail Programming
END:VEVENT
END:VCALENDAR
