BEGIN:VCALENDAR
VERSION:2.0
PRODID:-//newhourli.org//NONSGML kigkonsult.se iCalcreator 2.30.10//
CALSCALE:GREGORIAN
METHOD:PUBLISH
UID:ac3115a0-41ce-4e7c-b1ca-a9fb77d445b9
X-WR-CALDESC:Conflict Management Jail Programming in the Yaphank Jail
X-WR-RELCALID:f41399f332194673f5db0ec45e3f659c
X-WR-TIMEZONE:America/New_York
BEGIN:VTIMEZONE
TZID:America/New_York
BEGIN:STANDARD
TZNAME:EST
DTSTART:20261101T020000
TZOFFSETFROM:-0400
TZOFFSETTO:-0500
RDATE:20271107T020000
END:STANDARD
BEGIN:DAYLIGHT
TZNAME:EDT
DTSTART:20260308T020000
TZOFFSETFROM:-0500
TZOFFSETTO:-0400
RDATE:20270314T020000
RDATE:20280312T020000
END:DAYLIGHT
END:VTIMEZONE
BEGIN:VEVENT
UID:e99bbd43-b00d-4907-8835-fe259b5912a3
DTSTAMP:20260421T101515Z
DESCRIPTION:Conflict Management Jail Programming in the Yaphank Jail
DTSTART;TZID=America/New_York:20270127T120000
DTEND;TZID=America/New_York:20270127T140000
LOCATION:
SUMMARY:Conflict Management Jail Programming
END:VEVENT
END:VCALENDAR
