BEGIN:VCALENDAR
VERSION:2.0
PRODID:-//newhourli.org//NONSGML kigkonsult.se iCalcreator 2.30.10//
CALSCALE:GREGORIAN
METHOD:PUBLISH
UID:fe3ae9cb-6598-4e6d-b091-e7ecc4c1cb95
X-WR-CALDESC:Conflict Management Jail Programming in the Yaphank Jail
X-WR-RELCALID:e4720d2fe53f164290ec15b6aa22c547
X-WR-TIMEZONE:America/New_York
BEGIN:VTIMEZONE
TZID:America/New_York
BEGIN:STANDARD
TZNAME:EST
DTSTART:20261101T020000
TZOFFSETFROM:-0400
TZOFFSETTO:-0500
RDATE:20271107T020000
END:STANDARD
BEGIN:DAYLIGHT
TZNAME:EDT
DTSTART:20260308T020000
TZOFFSETFROM:-0500
TZOFFSETTO:-0400
RDATE:20270314T020000
RDATE:20280312T020000
END:DAYLIGHT
END:VTIMEZONE
BEGIN:VEVENT
UID:7218f593-5442-4663-a58b-59f815d20daf
DTSTAMP:20260421T100404Z
DESCRIPTION:Conflict Management Jail Programming in the Yaphank Jail
DTSTART;TZID=America/New_York:20270120T120000
DTEND;TZID=America/New_York:20270120T140000
LOCATION:
SUMMARY:Conflict Management Jail Programming
END:VEVENT
END:VCALENDAR
