BEGIN:VCALENDAR
VERSION:2.0
PRODID:-//newhourli.org//NONSGML kigkonsult.se iCalcreator 2.30.10//
CALSCALE:GREGORIAN
METHOD:PUBLISH
UID:2aef9638-39ab-4fe0-910b-87eb2bc36749
X-WR-CALDESC:Know Your Rights Jail Programming in the Nassau Jail
X-WR-RELCALID:3d6b8ee16aed88da7585aa37b9967fb7
X-WR-TIMEZONE:America/New_York
BEGIN:VTIMEZONE
TZID:America/New_York
BEGIN:STANDARD
TZNAME:EST
DTSTART:20261101T020000
TZOFFSETFROM:-0400
TZOFFSETTO:-0500
RDATE:20271107T020000
END:STANDARD
BEGIN:DAYLIGHT
TZNAME:EDT
DTSTART:20260308T020000
TZOFFSETFROM:-0500
TZOFFSETTO:-0400
RDATE:20270314T020000
RDATE:20280312T020000
END:DAYLIGHT
END:VTIMEZONE
BEGIN:VEVENT
UID:bd9074d1-8a54-404c-b898-8045d7b820e8
DTSTAMP:20260421T100037Z
DESCRIPTION:Know Your Rights Jail Programming in the Nassau Jail
DTSTART;TZID=America/New_York:20270111T120000
DTEND;TZID=America/New_York:20270111T140000
LOCATION:
SUMMARY:Know Your Rights Jail Programming
END:VEVENT
END:VCALENDAR
