BEGIN:VCALENDAR
VERSION:2.0
PRODID:-//newhourli.org//NONSGML kigkonsult.se iCalcreator 2.30.10//
CALSCALE:GREGORIAN
METHOD:PUBLISH
UID:e479c925-84b0-47cd-ab14-c8cbf5904aa5
X-WR-CALDESC:Conflict Management Jail Programming in the Riverhead Jail
X-WR-RELCALID:be904ea18834dc235e62931ac750948a
X-WR-TIMEZONE:America/New_York
BEGIN:VTIMEZONE
TZID:America/New_York
BEGIN:STANDARD
TZNAME:EST
DTSTART:20261101T020000
TZOFFSETFROM:-0400
TZOFFSETTO:-0500
RDATE:20271107T020000
END:STANDARD
BEGIN:DAYLIGHT
TZNAME:EDT
DTSTART:20260308T020000
TZOFFSETFROM:-0500
TZOFFSETTO:-0400
RDATE:20270314T020000
RDATE:20280312T020000
END:DAYLIGHT
END:VTIMEZONE
BEGIN:VEVENT
UID:890e00e0-adca-41ae-b6ef-ec0f027a448a
DTSTAMP:20260421T104434Z
DESCRIPTION:Conflict Management Jail Programming in the Riverhead Jail
DTSTART;TZID=America/New_York:20270106T090000
DTEND;TZID=America/New_York:20270106T103000
LOCATION:
SUMMARY:Conflict Management Jail Programming
END:VEVENT
END:VCALENDAR
