BEGIN:VCALENDAR
VERSION:2.0
PRODID:-//newhourli.org//NONSGML kigkonsult.se iCalcreator 2.30.10//
CALSCALE:GREGORIAN
METHOD:PUBLISH
UID:1eaf5b82-076e-4a4c-b1aa-66610f886dbf
X-WR-CALDESC:Know Your Rights Jail Programming in the Nassau Jail
X-WR-RELCALID:b851ee4df7ad533f410af3347d6453bc
X-WR-TIMEZONE:America/New_York
BEGIN:VTIMEZONE
TZID:America/New_York
BEGIN:STANDARD
TZNAME:EST
DTSTART:20261101T020000
TZOFFSETFROM:-0400
TZOFFSETTO:-0500
RDATE:20271107T020000
END:STANDARD
BEGIN:DAYLIGHT
TZNAME:EDT
DTSTART:20260308T020000
TZOFFSETFROM:-0500
TZOFFSETTO:-0400
RDATE:20270314T020000
RDATE:20280312T020000
END:DAYLIGHT
END:VTIMEZONE
BEGIN:VEVENT
UID:1908f0fd-05d4-4806-a380-051849750580
DTSTAMP:20260421T094742Z
DESCRIPTION:Know Your Rights Jail Programming in the Nassau Jail
DTSTART;TZID=America/New_York:20270104T120000
DTEND;TZID=America/New_York:20270104T140000
LOCATION:
SUMMARY:Know Your Rights Jail Programming
END:VEVENT
END:VCALENDAR
