BEGIN:VCALENDAR
VERSION:2.0
PRODID:-//newhourli.org//NONSGML kigkonsult.se iCalcreator 2.30.10//
CALSCALE:GREGORIAN
METHOD:PUBLISH
UID:f906c134-f0b0-4a92-b7f3-6c1df38d5e63
X-WR-CALDESC:Creative Writing Jail Programming in Riverhead
X-WR-RELCALID:293a316c2a5d401c8a749d24fe2e0a73
X-WR-TIMEZONE:America/New_York
BEGIN:VTIMEZONE
TZID:America/New_York
BEGIN:STANDARD
TZNAME:EST
DTSTART:20261101T020000
TZOFFSETFROM:-0400
TZOFFSETTO:-0500
RDATE:20271107T020000
END:STANDARD
BEGIN:DAYLIGHT
TZNAME:EDT
DTSTART:20260308T020000
TZOFFSETFROM:-0500
TZOFFSETTO:-0400
RDATE:20270314T020000
RDATE:20280312T020000
END:DAYLIGHT
END:VTIMEZONE
BEGIN:VEVENT
UID:82ed66b5-6d37-4625-b955-f0b40b287468
DTSTAMP:20260421T123354Z
DESCRIPTION:Creative Writing Jail Programming in Riverhead
DTSTART;TZID=America/New_York:20261229T093000
DTEND;TZID=America/New_York:20261229T103000
LOCATION:
SUMMARY:Creative Writing Jail Programming
END:VEVENT
END:VCALENDAR
