BEGIN:VCALENDAR
VERSION:2.0
PRODID:-//newhourli.org//NONSGML kigkonsult.se iCalcreator 2.30.10//
CALSCALE:GREGORIAN
METHOD:PUBLISH
UID:15c057dc-758c-4fbc-a879-15fc968bef8f
X-WR-CALDESC:Reentry Planning Jail Programming in the Yaphank Jail
X-WR-RELCALID:67618c8c10da454538c6159da137a1ae
X-WR-TIMEZONE:America/New_York
BEGIN:VTIMEZONE
TZID:America/New_York
BEGIN:STANDARD
TZNAME:EST
DTSTART:20261101T020000
TZOFFSETFROM:-0400
TZOFFSETTO:-0500
RDATE:20271107T020000
END:STANDARD
BEGIN:DAYLIGHT
TZNAME:EDT
DTSTART:20260308T020000
TZOFFSETFROM:-0500
TZOFFSETTO:-0400
RDATE:20270314T020000
RDATE:20280312T020000
END:DAYLIGHT
END:VTIMEZONE
BEGIN:VEVENT
UID:50288b99-e64f-4acb-bc65-e7549b92d7d3
DTSTAMP:20260421T084145Z
DESCRIPTION:Reentry Planning Jail Programming in the Yaphank Jail
DTSTART;TZID=America/New_York:20261225T120000
DTEND;TZID=America/New_York:20261225T140000
LOCATION:
SUMMARY:Reentry Planning Jail Programming
END:VEVENT
END:VCALENDAR
