BEGIN:VCALENDAR
VERSION:2.0
PRODID:-//newhourli.org//NONSGML kigkonsult.se iCalcreator 2.30.10//
CALSCALE:GREGORIAN
METHOD:PUBLISH
UID:3134feea-b54a-47e1-a844-958fe1fd8e8e
X-WR-CALDESC:Reentry Planning Jail Programming in the Yaphank Jail
X-WR-RELCALID:4d425e96f52298c8c780eecc3fc1cfae
X-WR-TIMEZONE:America/New_York
BEGIN:VTIMEZONE
TZID:America/New_York
BEGIN:STANDARD
TZNAME:EST
DTSTART:20261101T020000
TZOFFSETFROM:-0400
TZOFFSETTO:-0500
RDATE:20271107T020000
END:STANDARD
BEGIN:DAYLIGHT
TZNAME:EDT
DTSTART:20260308T020000
TZOFFSETFROM:-0500
TZOFFSETTO:-0400
RDATE:20270314T020000
RDATE:20280312T020000
END:DAYLIGHT
END:VTIMEZONE
BEGIN:VEVENT
UID:6c972f4f-2dac-4a7a-a036-a8296eefb07c
DTSTAMP:20260421T083643Z
DESCRIPTION:Reentry Planning Jail Programming in the Yaphank Jail
DTSTART;TZID=America/New_York:20261204T120000
DTEND;TZID=America/New_York:20261204T140000
LOCATION:
SUMMARY:Reentry Planning Jail Programming
END:VEVENT
END:VCALENDAR
