BEGIN:VCALENDAR
VERSION:2.0
PRODID:-//newhourli.org//NONSGML kigkonsult.se iCalcreator 2.30.10//
CALSCALE:GREGORIAN
METHOD:PUBLISH
UID:fd18ef29-ea00-491a-9e08-f16f786122a9
X-WR-CALDESC:Conflict Management Jail Programming in the Yaphank Jail
X-WR-RELCALID:7836d5aa4824ce69e0984f76f7a32a39
X-WR-TIMEZONE:America/New_York
BEGIN:VTIMEZONE
TZID:America/New_York
BEGIN:STANDARD
TZNAME:EST
DTSTART:20261101T020000
TZOFFSETFROM:-0400
TZOFFSETTO:-0500
RDATE:20271107T020000
END:STANDARD
BEGIN:DAYLIGHT
TZNAME:EDT
DTSTART:20260308T020000
TZOFFSETFROM:-0500
TZOFFSETTO:-0400
RDATE:20270314T020000
RDATE:20280312T020000
END:DAYLIGHT
END:VTIMEZONE
BEGIN:VEVENT
UID:2f40cb4e-668f-4814-9ccb-0517c4846ce6
DTSTAMP:20260421T084330Z
DESCRIPTION:Conflict Management Jail Programming in the Yaphank Jail
DTSTART;TZID=America/New_York:20261125T140000
DTEND;TZID=America/New_York:20261125T160000
LOCATION:
SUMMARY:Conflict Management Jail Programming
END:VEVENT
END:VCALENDAR
