BEGIN:VCALENDAR
VERSION:2.0
PRODID:-//newhourli.org//NONSGML kigkonsult.se iCalcreator 2.30.10//
CALSCALE:GREGORIAN
METHOD:PUBLISH
UID:88099823-f5fc-4a93-9566-4ec8f67a2ec8
X-WR-CALDESC:
X-WR-RELCALID:6235b6fa22c644190cef9970785a8e08
X-WR-TIMEZONE:America/New_York
BEGIN:VTIMEZONE
TZID:America/New_York
BEGIN:STANDARD
TZNAME:EST
DTSTART:20241103T020000
TZOFFSETFROM:-0400
TZOFFSETTO:-0500
RDATE:20251102T020000
RDATE:20261101T020000
END:STANDARD
BEGIN:DAYLIGHT
TZNAME:EDT
DTSTART:20250309T020000
TZOFFSETFROM:-0500
TZOFFSETTO:-0400
RDATE:20260308T020000
RDATE:20270314T020000
END:DAYLIGHT
END:VTIMEZONE
BEGIN:VEVENT
UID:bf1618a0-fd0a-4049-b5aa-9bf5f7d41f36
DTSTAMP:20260421T083459Z
DESCRIPTION:
DTSTART;TZID=America/New_York:20250930T110000
DTEND;TZID=America/New_York:20250930T120000
LOCATION:633 Third Ave.\, New York\, NY 10016 US
SUMMARY:Clemency Rally
END:VEVENT
END:VCALENDAR
