BEGIN:VCALENDAR
VERSION:2.0
PRODID:-//newhourli.org//NONSGML kigkonsult.se iCalcreator 2.30.10//
CALSCALE:GREGORIAN
METHOD:PUBLISH
UID:10f975b4-5169-434b-9af4-a5f60e4ae5cd
X-WR-CALDESC:Creative Writing Jail Programming in Riverhead
X-WR-RELCALID:fddc5274924b59d18593f0460444bdaf
X-WR-TIMEZONE:America/New_York
BEGIN:VTIMEZONE
TZID:America/New_York
BEGIN:STANDARD
TZNAME:EST
DTSTART:20241103T020000
TZOFFSETFROM:-0400
TZOFFSETTO:-0500
RDATE:20251102T020000
RDATE:20261101T020000
END:STANDARD
BEGIN:DAYLIGHT
TZNAME:EDT
DTSTART:20250309T020000
TZOFFSETFROM:-0500
TZOFFSETTO:-0400
RDATE:20260308T020000
END:DAYLIGHT
END:VTIMEZONE
BEGIN:VEVENT
UID:54b4a185-5ce0-4c2a-ad70-946b5741e3f6
DTSTAMP:20260421T083531Z
DESCRIPTION:Creative Writing Jail Programming in Riverhead
DTSTART;TZID=America/New_York:20250826T093000
DTEND;TZID=America/New_York:20250826T103000
LOCATION:
SUMMARY:Creative Writing Jail Programming
END:VEVENT
END:VCALENDAR
