BEGIN:VCALENDAR
VERSION:2.0
PRODID:-//newhourli.org//NONSGML kigkonsult.se iCalcreator 2.30.10//
CALSCALE:GREGORIAN
METHOD:PUBLISH
UID:f3704ef1-f52b-4138-8c97-ea5cc3d42571
X-WR-CALDESC:Conflict Management Jail Programming in the Riverhead Jail
X-WR-RELCALID:8eb1c06fa2c794612ad874d974f3bcfa
X-WR-TIMEZONE:America/New_York
BEGIN:VTIMEZONE
TZID:America/New_York
BEGIN:STANDARD
TZNAME:EST
DTSTART:20241103T020000
TZOFFSETFROM:-0400
TZOFFSETTO:-0500
RDATE:20251102T020000
RDATE:20261101T020000
END:STANDARD
BEGIN:DAYLIGHT
TZNAME:EDT
DTSTART:20250309T020000
TZOFFSETFROM:-0500
TZOFFSETTO:-0400
RDATE:20260308T020000
END:DAYLIGHT
END:VTIMEZONE
BEGIN:VEVENT
UID:0f3ac4b8-b12f-4931-ab00-5d3424524b98
DTSTAMP:20260421T084402Z
DESCRIPTION:Conflict Management Jail Programming in the Riverhead Jail
DTSTART;TZID=America/New_York:20250813T090000
DTEND;TZID=America/New_York:20250813T103000
LOCATION:
SUMMARY:Conflict Management Jail Programming
END:VEVENT
END:VCALENDAR
