BEGIN:VCALENDAR
VERSION:2.0
PRODID:-//newhourli.org//NONSGML kigkonsult.se iCalcreator 2.30.10//
CALSCALE:GREGORIAN
METHOD:PUBLISH
UID:6bfea9ff-7f50-4a1a-b94c-4b9d08dc81a8
X-WR-CALDESC:Postpartum Support Session with our Doula in the Yaphank Jail 
 Nursery
X-WR-RELCALID:ca2f8163cf71b15ceaeda8b3ef380e50
X-WR-TIMEZONE:America/New_York
BEGIN:VTIMEZONE
TZID:America/New_York
BEGIN:STANDARD
TZNAME:EST
DTSTART:20241103T020000
TZOFFSETFROM:-0400
TZOFFSETTO:-0500
RDATE:20251102T020000
RDATE:20261101T020000
END:STANDARD
BEGIN:DAYLIGHT
TZNAME:EDT
DTSTART:20250309T020000
TZOFFSETFROM:-0500
TZOFFSETTO:-0400
RDATE:20260308T020000
END:DAYLIGHT
END:VTIMEZONE
BEGIN:VEVENT
UID:9de85e7b-ec36-41eb-9736-f612c10a5473
DTSTAMP:20260419T083244Z
DESCRIPTION:Postpartum Support Session with our Doula in the Yaphank Jail N
 ursery
DTSTART;TZID=America/New_York:20250805T133000
DTEND;TZID=America/New_York:20250805T143000
LOCATION:
SUMMARY:Doula Postpartum Support Jail Programming
END:VEVENT
END:VCALENDAR
