BEGIN:VCALENDAR
VERSION:2.0
PRODID:-//newhourli.org//NONSGML kigkonsult.se iCalcreator 2.30.10//
CALSCALE:GREGORIAN
METHOD:PUBLISH
UID:27f4ae9f-08c3-48c7-b73b-686642bcb61a
X-WR-CALDESC:Reentry Planning Jail Programming in the Yaphank Jail
X-WR-RELCALID:f8dfac20cf597d2a7c17819495977a27
X-WR-TIMEZONE:America/New_York
BEGIN:VTIMEZONE
TZID:America/New_York
BEGIN:STANDARD
TZNAME:EST
DTSTART:20241103T020000
TZOFFSETFROM:-0400
TZOFFSETTO:-0500
RDATE:20251102T020000
RDATE:20261101T020000
END:STANDARD
BEGIN:DAYLIGHT
TZNAME:EDT
DTSTART:20250309T020000
TZOFFSETFROM:-0500
TZOFFSETTO:-0400
RDATE:20260308T020000
END:DAYLIGHT
END:VTIMEZONE
BEGIN:VEVENT
UID:371f082c-cc62-4186-813c-eae78362ff68
DTSTAMP:20260421T095240Z
DESCRIPTION:Reentry Planning Jail Programming in the Yaphank Jail
DTSTART;TZID=America/New_York:20250725T120000
DTEND;TZID=America/New_York:20250725T140000
LOCATION:
SUMMARY:Reentry Planning Jail Programming
END:VEVENT
END:VCALENDAR
