BEGIN:VCALENDAR
VERSION:2.0
PRODID:-//newhourli.org//NONSGML kigkonsult.se iCalcreator 2.30.10//
CALSCALE:GREGORIAN
METHOD:PUBLISH
UID:662bab0e-36f7-4a6f-88ff-938a0f578148
X-WR-CALDESC:Individual Discharge Planning Meetings in the Riverhead Jail
X-WR-RELCALID:3904a2b9cf44b7dc8f9a79479d28b791
X-WR-TIMEZONE:America/New_York
BEGIN:VTIMEZONE
TZID:America/New_York
BEGIN:STANDARD
TZNAME:EST
DTSTART:20241103T020000
TZOFFSETFROM:-0400
TZOFFSETTO:-0500
RDATE:20251102T020000
RDATE:20261101T020000
END:STANDARD
BEGIN:DAYLIGHT
TZNAME:EDT
DTSTART:20250309T020000
TZOFFSETFROM:-0500
TZOFFSETTO:-0400
RDATE:20260308T020000
END:DAYLIGHT
END:VTIMEZONE
BEGIN:VEVENT
UID:bd4416f7-e8ab-4261-8737-58d7756ac64a
DTSTAMP:20260421T100415Z
DESCRIPTION:Individual Discharge Planning Meetings in the Riverhead Jail
DTSTART;TZID=America/New_York:20250724T153000
DTEND;TZID=America/New_York:20250724T173000
LOCATION:
SUMMARY:Reentry Planning Jail Programming
END:VEVENT
END:VCALENDAR
