BEGIN:VCALENDAR
VERSION:2.0
PRODID:-//newhourli.org//NONSGML kigkonsult.se iCalcreator 2.30.10//
CALSCALE:GREGORIAN
METHOD:PUBLISH
UID:8dc3bcf0-3b16-4d08-8290-cc7884ed3f80
X-WR-CALDESC:Parenting Journey Jail Programming in the Riverhead Jail. Brea
 k between 11-12:30.
X-WR-RELCALID:9f1acaa6201e95e5b1d0cfdbf66feaec
X-WR-TIMEZONE:America/New_York
BEGIN:VTIMEZONE
TZID:America/New_York
BEGIN:STANDARD
TZNAME:EST
DTSTART:20241103T020000
TZOFFSETFROM:-0400
TZOFFSETTO:-0500
RDATE:20251102T020000
RDATE:20261101T020000
END:STANDARD
BEGIN:DAYLIGHT
TZNAME:EDT
DTSTART:20250309T020000
TZOFFSETFROM:-0500
TZOFFSETTO:-0400
RDATE:20260308T020000
END:DAYLIGHT
END:VTIMEZONE
BEGIN:VEVENT
UID:b91cb527-acff-42e9-b1b0-806a3c6ba8b0
DTSTAMP:20260421T101022Z
DESCRIPTION:Parenting Journey Jail Programming in the Riverhead Jail. Break
  between 11-12:30.
DTSTART;TZID=America/New_York:20250724T100000
DTEND;TZID=America/New_York:20250724T133000
LOCATION:
SUMMARY:Parenting Journey Jail Programming
END:VEVENT
END:VCALENDAR
