BEGIN:VCALENDAR
VERSION:2.0
PRODID:-//newhourli.org//NONSGML kigkonsult.se iCalcreator 2.30.10//
CALSCALE:GREGORIAN
METHOD:PUBLISH
UID:cb58a4e3-0b95-473c-b1c2-f1af094b5d52
X-WR-CALDESC:Parrish Arts and New Hour's Art & Wellness Jail Programming in
  Riverhead
X-WR-RELCALID:587edfaa84e5234a6c0e66d72604833a
X-WR-TIMEZONE:America/New_York
BEGIN:VTIMEZONE
TZID:America/New_York
BEGIN:STANDARD
TZNAME:EST
DTSTART:20241103T020000
TZOFFSETFROM:-0400
TZOFFSETTO:-0500
RDATE:20251102T020000
RDATE:20261101T020000
END:STANDARD
BEGIN:DAYLIGHT
TZNAME:EDT
DTSTART:20250309T020000
TZOFFSETFROM:-0500
TZOFFSETTO:-0400
RDATE:20260308T020000
END:DAYLIGHT
END:VTIMEZONE
BEGIN:VEVENT
UID:30d46e9b-0a85-46b9-966f-004fce2a1768
DTSTAMP:20260421T102012Z
DESCRIPTION:Parrish Arts and New Hour's Art & Wellness Jail Programming in 
 Riverhead
DTSTART;TZID=America/New_York:20250722T090000
DTEND;TZID=America/New_York:20250722T110000
LOCATION:
SUMMARY:Art & Wellness Jail Programming
END:VEVENT
END:VCALENDAR
