BEGIN:VCALENDAR
VERSION:2.0
PRODID:-//newhourli.org//NONSGML kigkonsult.se iCalcreator 2.30.10//
CALSCALE:GREGORIAN
METHOD:PUBLISH
UID:4445a4cd-e391-47a5-9049-19f20cc205d0
X-WR-CALDESC:Reentry Planning Jail Programming in the Yaphank Jail
X-WR-RELCALID:4cb6b25d3a6f941fa1e6628173da257e
X-WR-TIMEZONE:America/New_York
BEGIN:VTIMEZONE
TZID:America/New_York
BEGIN:STANDARD
TZNAME:EST
DTSTART:20241103T020000
TZOFFSETFROM:-0400
TZOFFSETTO:-0500
RDATE:20251102T020000
RDATE:20261101T020000
END:STANDARD
BEGIN:DAYLIGHT
TZNAME:EDT
DTSTART:20250309T020000
TZOFFSETFROM:-0500
TZOFFSETTO:-0400
RDATE:20260308T020000
END:DAYLIGHT
END:VTIMEZONE
BEGIN:VEVENT
UID:53c65280-b233-42e7-9256-b2f0dff5af0c
DTSTAMP:20260421T083705Z
DESCRIPTION:Reentry Planning Jail Programming in the Yaphank Jail
DTSTART;TZID=America/New_York:20250711T120000
DTEND;TZID=America/New_York:20250711T140000
LOCATION:
SUMMARY:Reentry Planning Jail Programming
END:VEVENT
END:VCALENDAR
