BEGIN:VCALENDAR
VERSION:2.0
PRODID:-//newhourli.org//NONSGML kigkonsult.se iCalcreator 2.30.10//
CALSCALE:GREGORIAN
METHOD:PUBLISH
UID:13cefa1c-1367-42bc-be2d-6066f5f41fb2
X-WR-CALDESC:Reentry Planning Jail Programming in the Yaphank Jail
X-WR-RELCALID:001c0825eb36b07e36f1739d4d2eec4c
X-WR-TIMEZONE:America/New_York
BEGIN:VTIMEZONE
TZID:America/New_York
BEGIN:STANDARD
TZNAME:EST
DTSTART:20241103T020000
TZOFFSETFROM:-0400
TZOFFSETTO:-0500
RDATE:20251102T020000
RDATE:20261101T020000
END:STANDARD
BEGIN:DAYLIGHT
TZNAME:EDT
DTSTART:20250309T020000
TZOFFSETFROM:-0500
TZOFFSETTO:-0400
RDATE:20260308T020000
END:DAYLIGHT
END:VTIMEZONE
BEGIN:VEVENT
UID:31e89f0c-1fbc-48e9-9b5a-c98ce947d0b0
DTSTAMP:20260421T100532Z
DESCRIPTION:Reentry Planning Jail Programming in the Yaphank Jail
DTSTART;TZID=America/New_York:20250704T120000
DTEND;TZID=America/New_York:20250704T140000
LOCATION:
SUMMARY:Reentry Planning Jail Programming
END:VEVENT
END:VCALENDAR
