BEGIN:VCALENDAR
VERSION:2.0
PRODID:-//newhourli.org//NONSGML kigkonsult.se iCalcreator 2.30.10//
CALSCALE:GREGORIAN
METHOD:PUBLISH
UID:5260e972-92ba-4549-a465-72727cf53a79
X-WR-CALDESC:Reentry Planning Jail Programming in the Riverhead Jail
X-WR-RELCALID:e602dec216d0f67042555a890846fb60
X-WR-TIMEZONE:America/New_York
BEGIN:VTIMEZONE
TZID:America/New_York
BEGIN:STANDARD
TZNAME:EST
DTSTART:20241103T020000
TZOFFSETFROM:-0400
TZOFFSETTO:-0500
RDATE:20251102T020000
RDATE:20261101T020000
END:STANDARD
BEGIN:DAYLIGHT
TZNAME:EDT
DTSTART:20250309T020000
TZOFFSETFROM:-0500
TZOFFSETTO:-0400
RDATE:20260308T020000
END:DAYLIGHT
END:VTIMEZONE
BEGIN:VEVENT
UID:c32fc523-b8b8-49a3-8d1c-19baad8e9f80
DTSTAMP:20260421T095313Z
DESCRIPTION:Reentry Planning Jail Programming in the Riverhead Jail
DTSTART;TZID=America/New_York:20250627T090000
DTEND;TZID=America/New_York:20250627T110000
LOCATION:
SUMMARY:Reentry Planning Jail Programming
END:VEVENT
END:VCALENDAR
