BEGIN:VCALENDAR
VERSION:2.0
PRODID:-//newhourli.org//NONSGML kigkonsult.se iCalcreator 2.30.10//
CALSCALE:GREGORIAN
METHOD:PUBLISH
UID:39bc8f1b-fa71-4309-8b07-8ce1d9c13e7a
X-WR-CALDESC:Parenting Journey Jail Programming in the Riverhead Jail. Brea
 k between 11-12:30.
X-WR-RELCALID:7e2d0c9e25a8945238f7d25d54edc634
X-WR-TIMEZONE:America/New_York
BEGIN:VTIMEZONE
TZID:America/New_York
BEGIN:STANDARD
TZNAME:EST
DTSTART:20241103T020000
TZOFFSETFROM:-0400
TZOFFSETTO:-0500
RDATE:20251102T020000
RDATE:20261101T020000
END:STANDARD
BEGIN:DAYLIGHT
TZNAME:EDT
DTSTART:20250309T020000
TZOFFSETFROM:-0500
TZOFFSETTO:-0400
RDATE:20260308T020000
END:DAYLIGHT
END:VTIMEZONE
BEGIN:VEVENT
UID:f60f887e-8060-428d-bac4-7dc35dd6e58f
DTSTAMP:20260421T100328Z
DESCRIPTION:Parenting Journey Jail Programming in the Riverhead Jail. Break
  between 11-12:30.
DTSTART;TZID=America/New_York:20250612T100000
DTEND;TZID=America/New_York:20250612T133000
LOCATION:
SUMMARY:Parenting Journey Jail Programming
END:VEVENT
END:VCALENDAR
