BEGIN:VCALENDAR
VERSION:2.0
PRODID:-//newhourli.org//NONSGML kigkonsult.se iCalcreator 2.30.10//
CALSCALE:GREGORIAN
METHOD:PUBLISH
UID:0b09b6a8-9928-4bfa-8a4d-e50aecb1ff32
X-WR-CALDESC:Conflict Management Jail Programming in the Yaphank Jail
X-WR-RELCALID:0d53ff699419a520f3bd0b8cb2b6f74d
X-WR-TIMEZONE:America/New_York
BEGIN:VTIMEZONE
TZID:America/New_York
BEGIN:STANDARD
TZNAME:EST
DTSTART:20241103T020000
TZOFFSETFROM:-0400
TZOFFSETTO:-0500
RDATE:20251102T020000
END:STANDARD
BEGIN:DAYLIGHT
TZNAME:EDT
DTSTART:20250309T020000
TZOFFSETFROM:-0500
TZOFFSETTO:-0400
RDATE:20260308T020000
END:DAYLIGHT
END:VTIMEZONE
BEGIN:VEVENT
UID:453f7dd3-a473-4ec9-8614-ae8d62b8f22a
DTSTAMP:20260421T102203Z
DESCRIPTION:Conflict Management Jail Programming in the Yaphank Jail
DTSTART;TZID=America/New_York:20250409T130000
DTEND;TZID=America/New_York:20250409T150000
LOCATION:
SUMMARY:Conflict Management Jail Programming
END:VEVENT
END:VCALENDAR
