BEGIN:VCALENDAR
VERSION:2.0
PRODID:-//newhourli.org//NONSGML kigkonsult.se iCalcreator 2.30.10//
CALSCALE:GREGORIAN
METHOD:PUBLISH
UID:57d8389a-957a-4dcc-87fc-e030e6c44586
X-WR-CALDESC:We'll be attending the Children Living with Their Mothers in P
 rison: Advocacy and Alternatives\, the second annual Global Prison Nursery
  Network Symposium hosted by Children of Incarcerated Caregivers and the C
 olumbia Journal of Gender and Law.\n\nOur ED will be on the panel\, 'Paren
 ting in Prison: A Conversation with Impacted Mothers' moderated by our dea
 r friend Roslyn Smith of V-Day.\n\nTogether with directly-impacted people 
 and experts in the field\, we'll examine and discuss prison nurseries\, in
 cluding gaps in research and placement processes that fail to consider chi
 ldren’s best interests.
X-WR-RELCALID:12577569e8af1e61b4fb35fefc108f47
X-WR-TIMEZONE:America/New_York
BEGIN:VTIMEZONE
TZID:America/New_York
BEGIN:STANDARD
TZNAME:EST
DTSTART:20231105T020000
TZOFFSETFROM:-0400
TZOFFSETTO:-0500
RDATE:20241103T020000
RDATE:20251102T020000
END:STANDARD
BEGIN:DAYLIGHT
TZNAME:EDT
DTSTART:20240310T020000
TZOFFSETFROM:-0500
TZOFFSETTO:-0400
RDATE:20250309T020000
RDATE:20260308T020000
END:DAYLIGHT
END:VTIMEZONE
BEGIN:VEVENT
UID:2d523715-5c61-4a00-89e1-d902db3ed456
DTSTAMP:20260424T105108Z
DESCRIPTION:We'll be attending the Children Living with Their Mothers in Pr
 ison: Advocacy and Alternatives\, the second annual Global Prison Nursery 
 Network Symposium hosted by Children of Incarcerated Caregivers and the Co
 lumbia Journal of Gender and Law.\n\nOur ED will be on the panel\, 'Parent
 ing in Prison: A Conversation with Impacted Mothers' moderated by our dear
  friend Roslyn Smith of V-Day.\n\nTogether with directly-impacted people a
 nd experts in the field\, we'll examine and discuss prison nurseries\, inc
 luding gaps in research and placement processes that fail to consider chil
 dren’s best interests.
DTSTART;TZID=America/New_York:20241101T090000
DTEND;TZID=America/New_York:20241101T160000
LOCATION:William and June Warren Hall\, 1125 Amsterdam Ave.\, New York\, NY
  10025 US
SUMMARY:Global Prison Nursery Network Symposium
END:VEVENT
END:VCALENDAR
